Workbook
Name jrnx: JRN!$A:$B
Name jrnx2: JRN!$A:$C

Sheet export_operation-17012016
A1: Date DMY | B1: Journal | C1: nÂ° interne | D1: piece | E1: poste | F1: Code | G1: texte | H1: montant | I1: DC | J1: lettrage | K1: Texte corrigé
A2: 01.01.2016 | B2: O01 | C2: O000178 | D2: ODS42 | E2: 646402 | G2: PrÃ©voyance (Cotisation sociales perso exploitant) | H2: 223.73 | I2: D | J2: 113 | K2: =SUBSTITUTE(SUBSTITUTE(SUBSTITUTE(SUBSTITUTE(SUBSTITUTE(G2,"Ã´","ô"),"Ã¨","è"),"Ã©","é"),"Ã","à"),"Â","") -> Prévoyance (Cotisation sociales perso exploitant)
A3: 01.01.2016 | B3: O01 | C3: O000178 | D3: ODS42 | E3: 646300 | G3: CIPAV | H3: 405.1 | I3: D | J3: 115 | K3: =SUBSTITUTE(SUBSTITUTE(SUBSTITUTE(SUBSTITUTE(SUBSTITUTE(G3,"Ã´","ô"),"Ã¨","è"),"Ã©","é"),"Ã","à"),"Â","") -> CIPAV
A4: 01.01.2016 | B4: O01 | C4: O000178 | D4: ODS42 | E4: 514000 | F4: CCP | G4: CCP | H4: 45.73 | I4: C | J4: 110 | K4: =SUBSTITUTE(SUBSTITUTE(SUBSTITUTE(SUBSTITUTE(SUBSTITUTE(G4,"Ã´","ô"),"Ã¨","è"),"Ã©","é"),"Ã","à"),"Â","") -> CCP
A5: 01.01.2016 | B5: O01 | C5: O000178 | D5: ODS42 | E5: 616100 | G5: Multirisque | H5: 45.73 | I5: D | J5: 111 | K5: =SUBSTITUTE(SUBSTITUTE(SUBSTITUTE(SUBSTITUTE(SUBSTITUTE(G5,"Ã´","ô"),"Ã¨","è"),"Ã©","é"),"Ã","à"),"Â","") -> Multirisque | L5: Extension - outils comptable -export
A6: 01.01.2016 | B6: O01 | C6: O000178 | D6: ODS42 | E6: 514000 | F6: CCP | G6: CCP | H6: 223.73 | I6: C | J6: 112 | K6: =SUBSTITUTE(SUBSTITUTE(SUBSTITUTE(SUBSTITUTE(SUBSTITUTE(G6,"Ã´","ô"),"Ã¨","è"),"Ã©","é"),"Ã","à"),"Â","") -> CCP
A7: 01.01.2016 | B7: O01 | C7: O000178 | D7: ODS42 | E7: 514000 | F7: CCP | G7: CCP | H7: 405.1 | I7: C | J7: 114 | K7: =SUBSTITUTE(SUBSTITUTE(SUBSTITUTE(SUBSTITUTE(SUBSTITUTE(G7,"Ã´","ô"),"Ã¨","è"),"Ã©","é"),"Ã","à"),"Â","") -> CCP

Sheet FEC_CONV
A1: JournalCode | B1: JournalLib | C1: EcritureNum | D1: EcritureDate | E1: CompteNum | F1: CompteLib | G1: CompAuxNum | H1: CompAuxLib | I1: PieceRef | J1: PieceDate | K1: EcritureLib | L1: Debit | M1: Credit | N1: EcritureLet | O1: DateLet | P1: ValidDate | Q1: Montantdevise | R1: Idevise
A2: ='export_operation-17012016'!B2 -> O01 | B2: =VLOOKUP('export_operation-17012016'!B2,jrnx2,2,0) -> Ouverture | C2: ='export_operation-17012016'!C2 -> O000178 | D2: =RIGHT('export_operation-17012016'!A2,4)&"-"&LEFT(RIGHT('export_operation-17012016'!A2,7),2)&"-"&LEFT('export_operation-17012016'!A2,2) -> 2016-01-01 | E2: ='export_operation-17012016'!E2 -> 646402 | F2: ='export_operation-17012016'!K2 -> Prévoyance (Cotisation sociales perso exploitant) | J2: =RIGHT('export_operation-17012016'!A2,4)&"-"&LEFT(RIGHT('export_operation-17012016'!A2,7),2)&"-"&LEFT('export_operation-17012016'!A2,2) -> 2016-01-01 | L2: =IF('export_operation-17012016'!I2="D",'export_operation-17012016'!H2,0) -> 223.73 | M2: =IF('export_operation-17012016'!I2="C",'export_operation-17012016'!H2,0) -> 0 | N2: ='export_operation-17012016'!J2 -> 113 | P2: =RIGHT('export_operation-17012016'!A2,4)&"-"&LEFT(RIGHT('export_operation-17012016'!A2,7),2)&"-"&LEFT('export_operation-17012016'!A2,2) -> 2016-01-01
A3: ='export_operation-17012016'!B3 -> O01 | B3: =VLOOKUP('export_operation-17012016'!B3,jrnx2,2,0) -> Ouverture | C3: ='export_operation-17012016'!C3 -> O000178 | D3: =RIGHT('export_operation-17012016'!A3,4)&"-"&LEFT(RIGHT('export_operation-17012016'!A3,7),2)&"-"&LEFT('export_operation-17012016'!A3,2) -> 2016-01-01 | E3: ='export_operation-17012016'!E3 -> 646300 | F3: ='export_operation-17012016'!K3 -> CIPAV | J3: =RIGHT('export_operation-17012016'!A3,4)&"-"&LEFT(RIGHT('export_operation-17012016'!A3,7),2)&"-"&LEFT('export_operation-17012016'!A3,2) -> 2016-01-01 | L3: =IF('export_operation-17012016'!I3="D",'export_operation-17012016'!H3,0) -> 405.1 | M3: =IF('export_operation-17012016'!I3="C",'export_operation-17012016'!H3,0) -> 0 | N3: ='export_operation-17012016'!J3 -> 115 | P3: =RIGHT('export_operation-17012016'!A3,4)&"-"&LEFT(RIGHT('export_operation-17012016'!A3,7),2)&"-"&LEFT('export_operation-17012016'!A3,2) -> 2016-01-01
A4: ='export_operation-17012016'!B4 -> O01 | B4: =VLOOKUP('export_operation-17012016'!B4,jrnx2,2,0) -> Ouverture | C4: ='export_operation-17012016'!C4 -> O000178 | D4: =RIGHT('export_operation-17012016'!A4,4)&"-"&LEFT(RIGHT('export_operation-17012016'!A4,7),2)&"-"&LEFT('export_operation-17012016'!A4,2) -> 2016-01-01 | E4: ='export_operation-17012016'!E4 -> 514000 | F4: ='export_operation-17012016'!K4 -> CCP | J4: =RIGHT('export_operation-17012016'!A4,4)&"-"&LEFT(RIGHT('export_operation-17012016'!A4,7),2)&"-"&LEFT('export_operation-17012016'!A4,2) -> 2016-01-01 | L4: =IF('export_operation-17012016'!I4="D",'export_operation-17012016'!H4,0) -> 0 | M4: =IF('export_operation-17012016'!I4="C",'export_operation-17012016'!H4,0) -> 45.73 | N4: ='export_operation-17012016'!J4 -> 110 | P4: =RIGHT('export_operation-17012016'!A4,4)&"-"&LEFT(RIGHT('export_operation-17012016'!A4,7),2)&"-"&LEFT('export_operation-17012016'!A4,2) -> 2016-01-01
A5: ='export_operation-17012016'!B5 -> O01 | B5: =VLOOKUP('export_operation-17012016'!B5,jrnx2,2,0) -> Ouverture | C5: ='export_operation-17012016'!C5 -> O000178 | D5: =RIGHT('export_operation-17012016'!A5,4)&"-"&LEFT(RIGHT('export_operation-17012016'!A5,7),2)&"-"&LEFT('export_operation-17012016'!A5,2) -> 2016-01-01 | E5: ='export_operation-17012016'!E5 -> 616100 | F5: ='export_operation-17012016'!K5 -> Multirisque | J5: =RIGHT('export_operation-17012016'!A5,4)&"-"&LEFT(RIGHT('export_operation-17012016'!A5,7),2)&"-"&LEFT('export_operation-17012016'!A5,2) -> 2016-01-01 | L5: =IF('export_operation-17012016'!I5="D",'export_operation-17012016'!H5,0) -> 45.73 | M5: =IF('export_operation-17012016'!I5="C",'export_operation-17012016'!H5,0) -> 0 | N5: ='export_operation-17012016'!J5 -> 111 | P5: =RIGHT('export_operation-17012016'!A5,4)&"-"&LEFT(RIGHT('export_operation-17012016'!A5,7),2)&"-"&LEFT('export_operation-17012016'!A5,2) -> 2016-01-01
A6: ='export_operation-17012016'!B6 -> O01 | B6: =VLOOKUP('export_operation-17012016'!B6,jrnx2,2,0) -> Ouverture | C6: ='export_operation-17012016'!C6 -> O000178 | D6: =RIGHT('export_operation-17012016'!A6,4)&"-"&LEFT(RIGHT('export_operation-17012016'!A6,7),2)&"-"&LEFT('export_operation-17012016'!A6,2) -> 2016-01-01 | E6: ='export_operation-17012016'!E6 -> 514000 | F6: ='export_operation-17012016'!K6 -> CCP | J6: =RIGHT('export_operation-17012016'!A6,4)&"-"&LEFT(RIGHT('export_operation-17012016'!A6,7),2)&"-"&LEFT('export_operation-17012016'!A6,2) -> 2016-01-01 | L6: =IF('export_operation-17012016'!I6="D",'export_operation-17012016'!H6,0) -> 0 | M6: =IF('export_operation-17012016'!I6="C",'export_operation-17012016'!H6,0) -> 223.73 | N6: ='export_operation-17012016'!J6 -> 112 | P6: =RIGHT('export_operation-17012016'!A6,4)&"-"&LEFT(RIGHT('export_operation-17012016'!A6,7),2)&"-"&LEFT('export_operation-17012016'!A6,2) -> 2016-01-01
A7: ='export_operation-17012016'!B7 -> O01 | B7: =VLOOKUP('export_operation-17012016'!B7,jrnx2,2,0) -> Ouverture | C7: ='export_operation-17012016'!C7 -> O000178 | D7: =RIGHT('export_operation-17012016'!A7,4)&"-"&LEFT(RIGHT('export_operation-17012016'!A7,7),2)&"-"&LEFT('export_operation-17012016'!A7,2) -> 2016-01-01 | E7: ='export_operation-17012016'!E7 -> 514000 | F7: ='export_operation-17012016'!K7 -> CCP | J7: =RIGHT('export_operation-17012016'!A7,4)&"-"&LEFT(RIGHT('export_operation-17012016'!A7,7),2)&"-"&LEFT('export_operation-17012016'!A7,2) -> 2016-01-01 | L7: =IF('export_operation-17012016'!I7="D",'export_operation-17012016'!H7,0) -> 0 | M7: =IF('export_operation-17012016'!I7="C",'export_operation-17012016'!H7,0) -> 405.1 | N7: ='export_operation-17012016'!J7 -> 114 | P7: =RIGHT('export_operation-17012016'!A7,4)&"-"&LEFT(RIGHT('export_operation-17012016'!A7,7),2)&"-"&LEFT('export_operation-17012016'!A7,2) -> 2016-01-01
A8: ='export_operation-17012016'!B8 -> 0 | B8: =VLOOKUP('export_operation-17012016'!B8,jrnx2,2,0) -> #N/A | C8: ='export_operation-17012016'!C8 -> 0 | D8: =RIGHT('export_operation-17012016'!A8,4)&"-"&LEFT(RIGHT('export_operation-17012016'!A8,7),2)&"-"&LEFT('export_operation-17012016'!A8,2) -> -- | E8: ='export_operation-17012016'!E8 -> 0 | F8: ='export_operation-17012016'!K8 -> 0 | J8: =RIGHT('export_operation-17012016'!A8,4)&"-"&LEFT(RIGHT('export_operation-17012016'!A8,7),2)&"-"&LEFT('export_operation-17012016'!A8,2) -> -- | L8: =IF('export_operation-17012016'!I8="D",'export_operation-17012016'!H8,0) -> 0 | M8: =IF('export_operation-17012016'!I8="C",'export_operation-17012016'!H8,0) -> 0 | N8: ='export_operation-17012016'!J8 -> 0 | P8: =RIGHT('export_operation-17012016'!A8,4)&"-"&LEFT(RIGHT('export_operation-17012016'!A8,7),2)&"-"&LEFT('export_operation-17012016'!A8,2) -> --
A9: ='export_operation-17012016'!B9 -> 0 | B9: =VLOOKUP('export_operation-17012016'!B9,jrnx2,2,0) -> #N/A | C9: ='export_operation-17012016'!C9 -> 0 | D9: =RIGHT('export_operation-17012016'!A9,4)&"-"&LEFT(RIGHT('export_operation-17012016'!A9,7),2)&"-"&LEFT('export_operation-17012016'!A9,2) -> -- | E9: ='export_operation-17012016'!E9 -> 0 | F9: ='export_operation-17012016'!K9 -> 0 | J9: =RIGHT('export_operation-17012016'!A9,4)&"-"&LEFT(RIGHT('export_operation-17012016'!A9,7),2)&"-"&LEFT('export_operation-17012016'!A9,2) -> -- | L9: =IF('export_operation-17012016'!I9="D",'export_operation-17012016'!H9,0) -> 0 | M9: =IF('export_operation-17012016'!I9="C",'export_operation-17012016'!H9,0) -> 0 | N9: ='export_operation-17012016'!J9 -> 0 | P9: =RIGHT('export_operation-17012016'!A9,4)&"-"&LEFT(RIGHT('export_operation-17012016'!A9,7),2)&"-"&LEFT('export_operation-17012016'!A9,2) -> --
A10: ='export_operation-17012016'!B10 -> 0 | B10: =VLOOKUP('export_operation-17012016'!B10,jrnx2,2,0) -> #N/A | C10: ='export_operation-17012016'!C10 -> 0 | D10: =RIGHT('export_operation-17012016'!A10,4)&"-"&LEFT(RIGHT('export_operation-17012016'!A10,7),2)&"-"&LEFT('export_operation-17012016'!A10,2) -> -- | E10: ='export_operation-17012016'!E10 -> 0 | F10: ='export_operation-17012016'!K10 -> 0 | J10: =RIGHT('export_operation-17012016'!A10,4)&"-"&LEFT(RIGHT('export_operation-17012016'!A10,7),2)&"-"&LEFT('export_operation-17012016'!A10,2) -> -- | L10: =IF('export_operation-17012016'!I10="D",'export_operation-17012016'!H10,0) -> 0 | M10: =IF('export_operation-17012016'!I10="C",'export_operation-17012016'!H10,0) -> 0 | N10: ='export_operation-17012016'!J10 -> 0 | P10: =RIGHT('export_operation-17012016'!A10,4)&"-"&LEFT(RIGHT('export_operation-17012016'!A10,7),2)&"-"&LEFT('export_operation-17012016'!A10,2) -> --
A11: ='export_operation-17012016'!B11 -> 0 | B11: =VLOOKUP('export_operation-17012016'!B11,jrnx2,2,0) -> #N/A | C11: ='export_operation-17012016'!C11 -> 0 | D11: =RIGHT('export_operation-17012016'!A11,4)&"-"&LEFT(RIGHT('export_operation-17012016'!A11,7),2)&"-"&LEFT('export_operation-17012016'!A11,2) -> -- | E11: ='export_operation-17012016'!E11 -> 0 | F11: ='export_operation-17012016'!K11 -> 0 | J11: =RIGHT('export_operation-17012016'!A11,4)&"-"&LEFT(RIGHT('export_operation-17012016'!A11,7),2)&"-"&LEFT('export_operation-17012016'!A11,2) -> -- | L11: =IF('export_operation-17012016'!I11="D",'export_operation-17012016'!H11,0) -> 0 | M11: =IF('export_operation-17012016'!I11="C",'export_operation-17012016'!H11,0) -> 0 | N11: ='export_operation-17012016'!J11 -> 0 | P11: =RIGHT('export_operation-17012016'!A11,4)&"-"&LEFT(RIGHT('export_operation-17012016'!A11,7),2)&"-"&LEFT('export_operation-17012016'!A11,2) -> --
A12: ='export_operation-17012016'!B12 -> 0 | B12: =VLOOKUP('export_operation-17012016'!B12,jrnx2,2,0) -> #N/A | C12: ='export_operation-17012016'!C12 -> 0 | D12: =RIGHT('export_operation-17012016'!A12,4)&"-"&LEFT(RIGHT('export_operation-17012016'!A12,7),2)&"-"&LEFT('export_operation-17012016'!A12,2) -> -- | E12: ='export_operation-17012016'!E12 -> 0 | F12: ='export_operation-17012016'!K12 -> 0 | J12: =RIGHT('export_operation-17012016'!A12,4)&"-"&LEFT(RIGHT('export_operation-17012016'!A12,7),2)&"-"&LEFT('export_operation-17012016'!A12,2) -> -- | L12: =IF('export_operation-17012016'!I12="D",'export_operation-17012016'!H12,0) -> 0 | M12: =IF('export_operation-17012016'!I12="C",'export_operation-17012016'!H12,0) -> 0 | N12: ='export_operation-17012016'!J12 -> 0 | P12: =RIGHT('export_operation-17012016'!A12,4)&"-"&LEFT(RIGHT('export_operation-17012016'!A12,7),2)&"-"&LEFT('export_operation-17012016'!A12,2) -> --
A13: ='export_operation-17012016'!B13 -> 0 | B13: =VLOOKUP('export_operation-17012016'!B13,jrnx2,2,0) -> #N/A | C13: ='export_operation-17012016'!C13 -> 0 | D13: =RIGHT('export_operation-17012016'!A13,4)&"-"&LEFT(RIGHT('export_operation-17012016'!A13,7),2)&"-"&LEFT('export_operation-17012016'!A13,2) -> -- | E13: ='export_operation-17012016'!E13 -> 0 | F13: ='export_operation-17012016'!K13 -> 0 | J13: =RIGHT('export_operation-17012016'!A13,4)&"-"&LEFT(RIGHT('export_operation-17012016'!A13,7),2)&"-"&LEFT('export_operation-17012016'!A13,2) -> -- | L13: =IF('export_operation-17012016'!I13="D",'export_operation-17012016'!H13,0) -> 0 | M13: =IF('export_operation-17012016'!I13="C",'export_operation-17012016'!H13,0) -> 0 | N13: ='export_operation-17012016'!J13 -> 0 | P13: =RIGHT('export_operation-17012016'!A13,4)&"-"&LEFT(RIGHT('export_operation-17012016'!A13,7),2)&"-"&LEFT('export_operation-17012016'!A13,2) -> --
... A1078: ='export_operation-17012016'!B1078 -> 0 | B1078: =VLOOKUP('export_operation-17012016'!B1078,jrnx2,2,0) -> #N/A | C1078: ='export_operation-17012016'!C1078 -> 0 | D1078: =RIGHT('export_operation-17012016'!A1078,4)&"-"&LEFT(RIGHT('export_operation-17012016'!A1078,7),2)&"-"&LEFT('export_operation-17012016'!A1078,2) -> -- | E1078: ='export_operation-17012016'!E1078 -> 0 | F1078: ='export_operation-17012016'!K1078 -> 0 | J1078: =RIGHT('export_operation-17012016'!A1078,4)&"-"&LEFT(RIGHT('export_operation-17012016'!A1078,7),2)&"-"&LEFT('export_operation-17012016'!A1078,2) -> -- | L1078: =IF('export_operation-17012016'!I1078="D",'export_operation-17012016'!H1078,0) -> 0 | M1078: =IF('export_operation-17012016'!I1078="C",'export_operation-17012016'!H1078,0) -> 0 | N1078: ='export_operation-17012016'!J1078 -> 0 | P1078: =RIGHT('export_operation-17012016'!A1078,4)&"-"&LEFT(RIGHT('export_operation-17012016'!A1078,7),2)&"-"&LEFT('export_operation-17012016'!A1078,2) -> --

Sheet JRN
A1: Journal | B1: Libellé | C1: Code court | E1: Format fichier
A2: F01 | B2: Financier | C2: F
A3: O02 | B3: Règlements | C3: 2
A4: O04 | B4: Relevé banque | C4: 4
A5: O05 | B5: Report annuel | C5: 5
A6: V01 | B6: Ventes | C6: V
A7: O01 | B7: Ouverture | C7: O
A8: O08 | B8: Banque | C8: B
A9: O03 | B9: CCP | C9: C
A10: O07 | B10: Note de frais | C10: N
A11: O06 | B11: Achats | C11: H

Sheet 2016_Fichier FEC
A1: JournalCode | B1: JournalLib | C1: EcritureNum | D1: EcritureDate | E1: CompteNum | F1: CompteLib | G1: CompAuxNum | H1: CompAuxLib | I1: PieceRef | J1: PieceDate | K1: EcritureLib | L1: Debit | M1: Credit | N1: EcritureLet | O1: DateLet | P1: ValidDate | Q1: Montantdevise | R1: Idevise
A2: O01 | B2: Ouverture | C2: O000178 | D2: 2016-01-01 | E2: 646402 | F2: Prévoyance (Cotisation sociales perso exploitant) | J2: 2016-01-01 | L2: 223.73 | M2: 0 | N2: 113 | P2: 2016-01-01
A3: O01 | B3: Ouverture | C3: O000178 | D3: 2016-01-01 | E3: 646300 | F3: CIPAV | J3: 2016-01-01 | L3: 405.1 | M3: 0 | N3: 115 | P3: 2016-01-01
A4: O01 | B4: Ouverture | C4: O000178 | D4: 2016-01-01 | E4: 514000 | F4: CCP | J4: 2016-01-01 | L4: 0 | M4: 45.73 | N4: 110 | P4: 2016-01-01
A5: O01 | B5: Ouverture | C5: O000178 | D5: 2016-01-01 | E5: 616100 | F5: Multirisque | J5: 2016-01-01 | L5: 45.73 | M5: 0 | N5: 111 | P5: 2016-01-01
A6: O01 | B6: Ouverture | C6: O000178 | D6: 2016-01-01 | E6: 514000 | F6: CCP | J6: 2016-01-01 | L6: 0 | M6: 223.73 | N6: 112 | P6: 2016-01-01
A7: O01 | B7: Ouverture | C7: O000178 | D7: 2016-01-01 | E7: 514000 | F7: CCP | J7: 2016-01-01 | L7: 0 | M7: 405.1 | N7: 114 | P7: 2016-01-01
A8: O05 | B8: Report annuel | C8: O000164 | D8: 2016-01-01 | E8: 408000 | F8: Fournisseurs - Factures non parvenues | J8: 2016-01-01 | L8: 0 | M8: 1315.6 | N8: 0 | P8: 2016-01-01
A9: O05 | B9: Report annuel | C9: O000164 | D9: 2016-01-01 | E9: 445860 | F9: TCA sur facture non parvenue | J9: 2016-01-01 | L9: 215.6 | M9: 0 | N9: 0 | P9: 2016-01-01
A10: O05 | B10: Report annuel | C10: O000164
A11: O05 | B11: Report annuel | C11: O000164
A12: O05 | B12: Report annuel | C12: O000164
A13: O05 | B13: Report annuel | C13: O000164
A14: O05 | B14: Report annuel | C14: O000164
A15: O05 | B15: Report annuel | C15: O000164
A16: O05 | B16: Report annuel | C16: O000164
A17: O05 | B17: Report annuel | C17: O000164
A18: O05 | B18: Report annuel | C18: O000164
A19: O05 | B19: Report annuel | C19: O000164
A20: O05 | B20: Report annuel | C20: O000164
A21: O05 | B21: Report annuel | C21: O000164
... A1078: O01 | B1078: Ouverture | C1078: O000292
